BEGIN:VCALENDAR
VERSION:2.0
PRODID:-//Feuerwehr-Seesen - ECPv6.15.17//NONSGML v1.0//EN
CALSCALE:GREGORIAN
METHOD:PUBLISH
X-ORIGINAL-URL:https://feuerwehr-seesen.de
X-WR-CALDESC:Veranstaltungen für Feuerwehr-Seesen
REFRESH-INTERVAL;VALUE=DURATION:PT1H
X-Robots-Tag:noindex
X-PUBLISHED-TTL:PT1H
BEGIN:VTIMEZONE
TZID:Europe/Paris
BEGIN:DAYLIGHT
TZOFFSETFROM:+0100
TZOFFSETTO:+0200
TZNAME:CEST
DTSTART:20250330T010000
END:DAYLIGHT
BEGIN:STANDARD
TZOFFSETFROM:+0200
TZOFFSETTO:+0100
TZNAME:CET
DTSTART:20251026T010000
END:STANDARD
BEGIN:DAYLIGHT
TZOFFSETFROM:+0100
TZOFFSETTO:+0200
TZNAME:CEST
DTSTART:20260329T010000
END:DAYLIGHT
BEGIN:STANDARD
TZOFFSETFROM:+0200
TZOFFSETTO:+0100
TZNAME:CET
DTSTART:20261025T010000
END:STANDARD
BEGIN:DAYLIGHT
TZOFFSETFROM:+0100
TZOFFSETTO:+0200
TZNAME:CEST
DTSTART:20270328T010000
END:DAYLIGHT
BEGIN:STANDARD
TZOFFSETFROM:+0200
TZOFFSETTO:+0100
TZNAME:CET
DTSTART:20271031T010000
END:STANDARD
END:VTIMEZONE
BEGIN:VEVENT
DTSTART;TZID=Europe/Paris:20260311T190000
DTEND;TZID=Europe/Paris:20260311T220000
DTSTAMP:20260421T153834
CREATED:20260218T102810Z
LAST-MODIFIED:20260218T102810Z
UID:320-1773255600-1773266400@feuerwehr-seesen.de
SUMMARY:Workshop Webseite
DESCRIPTION:Konzept des neuen Webauftritts\nErfahrungsaustausch
URL:https://feuerwehr-seesen.de/event/workshop-webseite-2/
LOCATION:Feuerwache Seesen\, Sack 1\, Seesen\, 38723\, Germany
ORGANIZER;CN="J%C3%BCrgen Graetsch":MAILTO:juergen.graetsch@gmail.com
END:VEVENT
BEGIN:VEVENT
DTSTART;TZID=Europe/Paris:20260219T200000
DTEND;TZID=Europe/Paris:20260219T220000
DTSTAMP:20260421T153834
CREATED:20260218T122355Z
LAST-MODIFIED:20260218T122355Z
UID:326-1771531200-1771538400@feuerwehr-seesen.de
SUMMARY:1. Zug
DESCRIPTION:Dienstabend 1. Zug
URL:https://feuerwehr-seesen.de/event/1-zug/
END:VEVENT
BEGIN:VEVENT
DTSTART;TZID=Europe/Paris:20260218T200000
DTEND;TZID=Europe/Paris:20260218T220000
DTSTAMP:20260421T153834
CREATED:20260218T121554Z
LAST-MODIFIED:20260218T122032Z
UID:322-1771444800-1771452000@feuerwehr-seesen.de
SUMMARY:2. Zug
DESCRIPTION:Dienstabend 2. Zug
URL:https://feuerwehr-seesen.de/event/altersabteilung/
LOCATION:Feuerwache Seesen\, Sack 1\, Seesen\, 38723\, Germany
CATEGORIES:2. Zug
END:VEVENT
BEGIN:VEVENT
DTSTART;TZID=Europe/Paris:20260217T190000
DTEND;TZID=Europe/Paris:20260217T220000
DTSTAMP:20260421T153834
CREATED:20260218T092358Z
LAST-MODIFIED:20260218T092358Z
UID:314-1771354800-1771365600@feuerwehr-seesen.de
SUMMARY:Workshop Webseite
DESCRIPTION:Konzept des neuen Webauftritts\, technische Möglichkeiten\, Festlegen der Aufgaben
URL:https://feuerwehr-seesen.de/event/workshop-webseite/
LOCATION:Feuerwache Seesen\, Sack 1\, Seesen\, 38723\, Germany
CATEGORIES:Internet
ORGANIZER;CN="J%C3%BCrgen Graetsch":MAILTO:juergen.graetsch@gmail.com
END:VEVENT
END:VCALENDAR